BEGIN:VCALENDAR
VERSION:2.0
PRODID:-//ChamberMaster//Event Calendar 2.0//EN
METHOD:PUBLISH
X-PUBLISHED-TTL:P1H
REFRESH-INTERVAL:P1H
CALSCALE:GREGORIAN
BEGIN:VTIMEZONE
TZID:America/Chicago
BEGIN:DAYLIGHT
RRULE:FREQ=YEARLY;BYMONTH=3;BYDAY=2SU
DTSTART:20070101T000000
TZOFFSETFROM:-0600
TZOFFSETTO:-0500
TZNAME:Central Daylight Time
END:DAYLIGHT
BEGIN:STANDARD
RRULE:FREQ=YEARLY;BYMONTH=11;BYDAY=1SU
DTSTART:20070101T000000
TZOFFSETFROM:-0500
TZOFFSETTO:-0600
TZNAME:Central Standard Time
END:STANDARD
END:VTIMEZONE
BEGIN:VEVENT
DTSTART;TZID=America/Chicago:20260509T190000
DTEND;TZID=America/Chicago:20260509T230000
X-MICROSOFT-CDO-ALLDAYEVENT:FALSE
SUMMARY:Wayzata American Legion Raise the Roof Fundraiser
DESCRIPTION:Join us in supporting the Wayzata American Legion by attending our building improvement fundraiser on Saturday\, May 9th. The Legion serves veterans\, active-duty service members\, and local community programs. With your help\, it will remain a welcoming space for gatherings\, celebrations\, and community life for years to come. The evening will feature\, a silent auction\, 50/50 "split the pot" drawings\, raffles\, door prizes\, and....We're excited to have local talent Polly Regan (aka DJ Polly Pocket)\, spinning tunes throughout the night. A Wayzata grad\, classically trained percussionist\, and Ohio State Music & Pre-Law student\, Polly (somehow) finds time to DJ at a club near campus. She's bringing her talent and energy home to Raise the Roof for a hometown crowd. Don't miss it!Tickets are $15 and include complimentary raffle and door prize entries. CLICK HERE to buy tickets!\nHelp make our silent auction and raffle a success! Donations of gift cards\, experiences\, services\, merchandise\, or themed baskets are greatly appreciated. Submit your donation by clicking HERE.\n\nCan't attend but still want to support the cause? You can make a monetary donation by clicking HERE.
X-ALT-DESC;FMTTYPE=text/html:<!DOCTYPE html><html><head><title></title></head><body aria-disabled="false"><p>Join us in supporting the Wayzata American Legion by attending our building improvement fundraiser on Saturday\, May 9th. The Legion serves veterans\, active-duty service members\, and local community programs. With your help\, it will remain a welcoming space for gatherings\, celebrations\, and community life for years to come. The evening will feature\, a silent auction\, 50/50 &ldquo\;split the pot&rdquo\; drawings\, raffles\, door prizes\, and....</p><p>We&rsquo\;re excited to have local talent Polly Regan (aka DJ Polly Pocket)\, spinning tunes throughout the night. A Wayzata grad\, classically trained percussionist\, and Ohio State Music &amp\; Pre-Law student\, Polly (somehow) finds time to DJ at a club near campus. She&rsquo\;s bringing her talent and energy home to Raise the Roof for a hometown crowd. Don&rsquo\;t miss it!</p><p>Tickets are $15 and include complimentary raffle and door prize entries. <a fr-original-style="" href="https://donorbox.org/events/916677/steps/choose_tickets" rel="noopener noreferrer" style="user-select: auto\;" target="_blank"><strong fr-original-style="" style="font-weight: 700\;">CLICK HERE to buy tickets!</strong></a></p><p><br style="margin: 0px\; box-sizing: border-box\; color: inherit\;">Help make our silent auction and raffle a success! Donations of gift cards\, experiences\, services\, merchandise\, or themed baskets are greatly appreciated. <a fr-original-style="" href="https://docs.google.com/forms/d/e/1FAIpQLScICKUOxHlltgxRZxVXPbagvyugiS0iKo8-XXRgDCurP34tGQ/viewform?pli=1" rel="noopener noreferrer" style="user-select: auto\;" target="_blank"><strong fr-original-style="" style="font-weight: 700\;">Submit your donation by clicking HERE.</strong></a><br style="margin: 0px\; box-sizing: border-box\; color: inherit\;"><br style="margin: 0px\; box-sizing: border-box\; color: inherit\;">Can&rsquo\;t attend but still want to support the cause? <a fr-original-style="" href="https://donorbox.org/test-916607" rel="noopener noreferrer" style="user-select: auto\;" target="_blank"><strong fr-original-style="" style="font-weight: 700\;">You can make a monetary donation by clicking HERE.</strong></a></p></body></html>
LOCATION:949 Wayzata Blvd Wayzata MN 55391
UID:e.4145.1444423
SEQUENCE:3
DTSTAMP:20260421T094923Z
URL:https://business.wayzatawestmetrochamber.com/events/Details/wayzata-american-legion-raise-the-roof-fundraiser-1710801?sourceTypeId=Hub
END:VEVENT
END:VCALENDAR
