BEGIN:VCALENDAR
VERSION:2.0
PRODID:-//ChamberMaster//Event Calendar 2.0//EN
METHOD:PUBLISH
X-PUBLISHED-TTL:P1H
REFRESH-INTERVAL:P1H
CALSCALE:GREGORIAN
BEGIN:VTIMEZONE
TZID:America/Chicago
BEGIN:DAYLIGHT
RRULE:FREQ=YEARLY;BYMONTH=3;BYDAY=2SU
DTSTART:20070101T000000
TZOFFSETFROM:-0600
TZOFFSETTO:-0500
TZNAME:Central Daylight Time
END:DAYLIGHT
BEGIN:STANDARD
RRULE:FREQ=YEARLY;BYMONTH=11;BYDAY=1SU
DTSTART:20070101T000000
TZOFFSETFROM:-0500
TZOFFSETTO:-0600
TZNAME:Central Standard Time
END:STANDARD
END:VTIMEZONE
BEGIN:VEVENT
DTSTART;TZID=America/Chicago:20260425T120000
DTEND;TZID=America/Chicago:20260425T133000
X-MICROSOFT-CDO-ALLDAYEVENT:FALSE
SUMMARY:Spring Reset-Plants and Feng Shui
DESCRIPTION:Spring is the season of renewal and your home is ready for it. In this class\, you'll explore how plants activate chi\, restore harmony\, and align your space with natural rhythms. Learn Feng Shui-based placement\, plant symbolism\, and intuitive guidance for selecting plants that support healing\, abundance\, and vitality. Leave inspired\, grounded\, and ready to bring fresh life into your space.\nFor more information and to register: https://www.lostintheforrestco.com/products/plants-feng-shui
X-ALT-DESC;FMTTYPE=text/html:<!DOCTYPE html><html><head><title></title></head><body aria-disabled="false"><p>Spring is the season of renewal&mdash\;and your home is ready for it. In this class\, you&rsquo\;ll explore how plants activate chi\, restore harmony\, and align your space with natural rhythms. Learn Feng Shui-based placement\, plant symbolism\, and intuitive guidance for selecting plants that support healing\, abundance\, and vitality. Leave inspired\, grounded\, and ready to bring fresh life into your space.</p><p><br></p><p><strong fr-original-style="" style="font-weight: 700\;">For more information and to register: </strong><a fr-original-style="" href="https://www.lostintheforrestco.com/products/plants-feng-shui" rel="noopener noreferrer" style="user-select: auto\;" target="_blank"><strong fr-original-style="" style="font-weight: 700\;">https://www.lostintheforrestco.com/products/plants-feng-shui</strong></a></p></body></html>
LOCATION:1676 West End Blvd St. St. Louis Park MN 55436
UID:e.4145.1442620
SEQUENCE:3
DTSTAMP:20260421T094847Z
URL:https://business.wayzatawestmetrochamber.com/events/Details/spring-reset-plants-and-feng-shui-1708661?sourceTypeId=Hub
END:VEVENT
END:VCALENDAR
