BEGIN:VCALENDAR
VERSION:2.0
PRODID:-//ChamberMaster//Event Calendar 2.0//EN
METHOD:PUBLISH
X-PUBLISHED-TTL:P1H
REFRESH-INTERVAL:P1H
CALSCALE:GREGORIAN
BEGIN:VTIMEZONE
TZID:America/Chicago
BEGIN:DAYLIGHT
RRULE:FREQ=YEARLY;BYMONTH=3;BYDAY=2SU
DTSTART:20070101T000000
TZOFFSETFROM:-0600
TZOFFSETTO:-0500
TZNAME:Central Daylight Time
END:DAYLIGHT
BEGIN:STANDARD
RRULE:FREQ=YEARLY;BYMONTH=11;BYDAY=1SU
DTSTART:20070101T000000
TZOFFSETFROM:-0500
TZOFFSETTO:-0600
TZNAME:Central Standard Time
END:STANDARD
END:VTIMEZONE
BEGIN:VEVENT
DTSTART;TZID=America/Chicago:20260512T160000
DTEND;TZID=America/Chicago:20260512T170000
X-MICROSOFT-CDO-ALLDAYEVENT:FALSE
SUMMARY:Belle & Grey Welcome Visit & Ribbon Cutting Celebration
DESCRIPTION:The Wayzata West Metro Chamber is excited to invite you to join us as we celebrate the opening of Belle & Grey! Belle & Grey is a new chef-driven\, American restaurant located at The Hotel Landing. Opened in April 2026\, it replaces ninetwentyfive with a focus on elevated\, comfortable classics in a cozy\, lakeside setting\, offering breakfast\, lunch\, dinner\, and weekend brunch. The name was inspired by owner Steve Bohl's grandchildren\, Greyson and Anabelle\, as well as the historic "Belle of Minnetonka" steamship and Gray's Bay. Come meet the ownership team and learn more about this fine dining establishment and delectable food and beverage offerings. We hope to see you there!From their website:At Belle & Grey\, we bring back the easygoing charm of Lake Minnetonka's golden age. Inspired by the legendary Belle of Minnetonka steamship that once filled the lake with laughter\, music\, and good company\, we honor that spirit of lakeside ease. At Belle & Grey\, you're not just dining out. You're coming home.Our menus are warm\, welcoming and full of heart\, it's the kind of place where folks gather for nostalgic dishes\, a perfectly made cocktail\, and the simple joy of being together and telling familiar stories once more for the fun of it.From intimate dinners to larger gatherings\, our team is here to help thoughtfully plan your private event occasion.
X-ALT-DESC;FMTTYPE=text/html:<!DOCTYPE html><html><head><title></title></head><body aria-disabled="false"><p>The Wayzata West Metro Chamber is excited to invite you to join us as we celebrate the opening of Belle &amp\; Grey! Belle &amp\; Grey is a new chef-driven\, American restaurant located at The Hotel Landing. Opened in April 2026\, it replaces ninetwentyfive with a focus on elevated\, comfortable classics in a cozy\, lakeside setting\, offering breakfast\, lunch\, dinner\, and weekend brunch.&nbsp\;</p><p>The name was inspired by owner Steve Bohl&#39\;s grandchildren\, Greyson and Anabelle\, as well as the historic &quot\;Belle of Minnetonka&quot\; steamship and Gray&#39\;s Bay. Come meet the ownership team and learn more about this fine dining establishment and delectable food and beverage offerings. We hope to see you there!</p><p><em>From their website:</em></p><p>At Belle &amp\; Grey\, we bring back the easygoing charm of Lake Minnetonka&rsquo\;s golden age. Inspired by the legendary Belle of Minnetonka steamship that once filled the lake with laughter\, music\, and good company\, we honor that spirit of lakeside ease. At Belle &amp\; Grey\, you&rsquo\;re not just dining out. You&rsquo\;re coming home.</p><p>Our menus are warm\, welcoming and full of heart\, it&rsquo\;s the kind of place where folks gather for nostalgic dishes\, a perfectly made cocktail\, and the simple joy of being together and telling familiar stories once more for the fun of it.</p><p>From intimate dinners to larger gatherings\, our team is here to help thoughtfully plan your private event occasion.</p></body></html>
LOCATION:925 Lake Street East Wayzata MN 55391
UID:e.4145.1443901
SEQUENCE:3
DTSTAMP:20260421T094846Z
URL:https://business.wayzatawestmetrochamber.com/events/Details/belle-grey-welcome-visit-ribbon-cutting-celebration-1710182?sourceTypeId=Hub
END:VEVENT
END:VCALENDAR
